BEGIN:VCALENDAR
VERSION:2.0
PRODID:-//eventon.com NONSGML v1.0//EN
CALSCALE:GREGORIAN
METHOD:PUBLISH
BEGIN:VEVENT
UID:69eb9f57a7664
DTSTAMP:20260424T165031Z
DTSTART:20261113T112300Z
DTEND:20261115T112300Z
LOCATION:
SUMMARY:Discovery Church Women's Retreat
DESCRIPTION:Nicole Unice will serve as the Keynote Speaker for Discovery Ch
 urch's Women Retreat\nhttps://nicoleunice.com/events/discovery-church-women
 s-retreat/
URL:https://nicoleunice.com/events/discovery-church-womens-retreat/
END:VEVENT
END:VCALENDAR