BEGIN:VCALENDAR
VERSION:2.0
PRODID:-//eventon.com NONSGML v1.0//EN
CALSCALE:GREGORIAN
METHOD:PUBLISH
BEGIN:VEVENT
UID:69eb4c683c0af
DTSTAMP:20260424T105640Z
DTSTART:20260428T141800Z
DTEND:20260430T141800Z
LOCATION:
SUMMARY:The Outcomes Conference 2026: Christian Leadership Alliance
DESCRIPTION:Nicole will share the mainstage with other Christian leaders fo
 r The Outcomes Conference 2026. The Outcomes Conference is an annual three-
 day leadership event hosted by the Christian Leadership Alliance that equip
 s nonprofit and ministry leaders with biblical teaching\,  practical traini
 ng\,  and collaborative learning experiences to strengthen their impact and
  effectiveness[..]\nhttps://nicoleunice.com/events/the-outcomes-conference-
 2026-christian-leadership-alliance/
URL:https://nicoleunice.com/events/the-outcomes-conference-2026-christian-leadership-alliance/
END:VEVENT
END:VCALENDAR