BEGIN:VCALENDAR
VERSION:2.0
PRODID:-//eventon.com NONSGML v1.0//EN
CALSCALE:GREGORIAN
METHOD:PUBLISH
BEGIN:VEVENT
UID:69eb925c4ce73
DTSTAMP:20260424T155508Z
DTSTART:20260517
DTEND:20260518
LOCATION:Hill City Church 2101 Maywill St.
SUMMARY:Hill City Church
DESCRIPTION:Join Nicole Unice at Hill City Church on Sunday\,  May 17th. Se
 rvice times are 9:00am and 10:45am.\nhttps://nicoleunice.com/events/hill-ci
 ty-church-11/
URL:https://nicoleunice.com/events/hill-city-church-11/
END:VEVENT
END:VCALENDAR