BEGIN:VCALENDAR
VERSION:2.0
PRODID:-//eventon.com NONSGML v1.0//EN
CALSCALE:GREGORIAN
METHOD:PUBLISH
BEGIN:VEVENT
UID:69eba1211714e
DTSTAMP:20260424T165809Z
DTSTART:20270226
DTEND:20270227
LOCATION:Morning Star Church 1600 Feise Rd #7345
SUMMARY:Morning Star Church Women's Conference
DESCRIPTION:Nicole will speak at Morning Star Church's Women's Conference F
 ebruary 26-27\,  2027\nhttps://nicoleunice.com/events/morning-star-church-w
 omens-conference/
URL:https://nicoleunice.com/events/morning-star-church-womens-conference/
END:VEVENT
END:VCALENDAR