BEGIN:VCALENDAR
VERSION:2.0
PRODID:-//eventon.com NONSGML v1.0//EN
CALSCALE:GREGORIAN
METHOD:PUBLISH
BEGIN:VEVENT
UID:69eb96cb54bcc
DTSTAMP:20260424T161403Z
DTSTART:20260503
DTEND:20260504
LOCATION:
SUMMARY:Ward Church
DESCRIPTION:Join Nicole Unice at Ward Church on Sunday\,  May 3. Service ti
 mes are 9:00am and 10:30am.\nhttps://nicoleunice.com/events/ward-church-10/
URL:https://nicoleunice.com/events/ward-church-10/
END:VEVENT
END:VCALENDAR